BEGIN:VCALENDAR
VERSION:2.0
PRODID:-//ChamberMaster//Event Calendar 2.0//EN
METHOD:PUBLISH
X-PUBLISHED-TTL:P3D
REFRESH-INTERVAL:P3D
CALSCALE:GREGORIAN
BEGIN:VEVENT
DTSTART:20260326T153000Z
DTEND:20260326T170000Z
X-MICROSOFT-CDO-ALLDAYEVENT:FALSE
SUMMARY:Third Annual LEADing Ladies Luncheon
DESCRIPTION:3rd Annual Leading Ladies Luncheon\n\nThursday\, March 26 | 11:30 AM   1:00 PM (Doors open 11 AM)\n\nWC Bradley Museum\n\nThere's something powerful about women gathering around a table to share their stories and that's exactly what our Third Annual Leading Ladies Luncheon is all about.\n\nJoin us at the beautiful WC Bradley Museum in Uptown Columbus for an afternoon of real conversations\, meaningful connection\, and stories that will stay with you long after the event ends. This year's panel features four incredible women who lead with heart\, strength\, and authenticity:\n\n  Dr. Brenda Coley\, Superintendent of Russell County Schools\n\n  Tori Evans\, military spouse\, veteran\, and author\n\n  Dr. Ronna Pirtle\, Dentist at River Valley Family Dentistry\n\n  Christina Martin CLC\, CSSGB\, Owner of Christina Coaches\n\n  Gwen Ruff\, back as our incredible moderator\n\n \n\nEach of these women brings a unique journey through leadership\, service\, entrepreneurship\, family\, and faith. They'll share the moments that shaped them\, the challenges that stretched them\, and the lessons that continue to guide them.\n\nYou can expect to be inspired. You'll likely laugh. You might even tear up. Most of all\, you'll leave feeling encouraged and reminded that you're not walking your journey alone.\n\nWhether you're building a business\, leading a team\, raising a family\, or figuring out what's next\, this luncheon is a space to connect\, grow\, and celebrate the strength of women supporting women.\n\nBring a friend. Come hungry. Leave inspired. Seating is limited.
X-ALT-DESC;FMTTYPE=text/html:<div class="flex max-w-full flex-col grow">\n<div class="min-h-8 text-message relative flex w-full flex-col items-end gap-2 text-start break-words whitespace-normal [.text-message+&amp\;]:mt-1" data-message-author-role="assistant" data-message-id="a6987242-ddce-4007-8e2e-e809d9a68087" data-message-model-slug="gpt-5-2" dir="auto">\n<div class="flex w-full flex-col gap-1 empty:hidden first:pt-[1px]">\n<div class="markdown prose dark:prose-invert w-full wrap-break-word light markdown-new-styling">\n<p data-end="108" data-start="0"><span style="font-size: 14px\;"><strong data-end="38" data-start="0" style="caret-color: rgb(0\, 0\, 0)\; color: rgb(0\, 0\, 0)\; font-family: arial\; font-size: 18px\;">3rd Annual Leading Ladies Luncheon</strong><br data-end="41" data-start="38" />\n<strong data-end="84" data-start="41"><font color="#000000" face="arial">Thursday\, March 26 | 11:30 AM &ndash\; 1:00 PM (Doors open 11 AM)</font></strong><br data-end="87" data-start="84" />\n<strong data-end="108" data-start="87" style="caret-color: rgb(0\, 0\, 0)\; color: rgb(0\, 0\, 0)\; font-family: arial\; font-size: 18px\;">WC Bradley Museum</strong></span></p>\n\n<p data-end="279" data-start="110" style="caret-color: rgb(0\, 0\, 0)\; color: rgb(0\, 0\, 0)\;"><span style="font-size: 18px\;"><span style="font-family: arial\;">There&rsquo\;s something powerful about women gathering around a table to share their stories&mdash\;and that&rsquo\;s exactly what our&nbsp\;<strong data-end="265" data-start="225">Third Annual Leading Ladies Luncheon</strong>&nbsp\;is all about.</span></span></p>\n\n<p data-end="547" data-start="281" style="caret-color: rgb(0\, 0\, 0)\; color: rgb(0\, 0\, 0)\;"><span style="font-size: 18px\;"><span style="font-family: arial\;">Join us at the beautiful WC Bradley Museum in Uptown Columbus for an afternoon of real conversations\, meaningful connection\, and stories that will stay with you long after the event ends. This year&rsquo\;s panel features four incredible women who lead with heart\, strength\, and authenticity:</span></span></p>\n\n<p data-end="835" data-start="549" style="caret-color: rgb(0\, 0\, 0)\; color: rgb(0\, 0\, 0)\;"><span style="font-size: 18px\;"><span style="font-family:arial\;">&#10024\;&nbsp\;<strong data-end="571" data-start="551">Dr. Brenda Coley</strong>\, Superintendent of Russell County Schools<br data-end="616" data-start="613" />\n&#10024\;&nbsp\;<strong data-end="632" data-start="618">Tori Evans</strong>\, military spouse\, veteran\, and author<br data-end="716" data-start="713" />\n&#10024\;&nbsp\;<strong data-end="738" data-start="718">Dr. Ronna Pirtle</strong>\, Dentist at River Valley Family Dentistry<br data-end="783" data-start="780" />\n&#10024\;&nbsp\;<strong data-end="805" data-start="785">Christina Mart</strong><strong data-end="805" data-start="785">in</strong><strong data-end="805" data-start="785">&nbsp\;</strong></span></span><strong><span style="font-family:arial\;"><span style="caret-color: rgb(0\, 0\, 0)\; color: rgb(0\, 0\, 0)\; font-size: 12pt\; line-height: 18.4px\;"><span style="font-size:18px\;">CLC\, CSSGB</span></span></span></strong><span style="font-size: 18px\;"><span style="font-family: arial\;">\, Owner of Christina Coaches</span></span></p>\n\n<p data-end="835" data-start="549" style="caret-color: rgb(0\, 0\, 0)\; color: rgb(0\, 0\, 0)\;"><span style="font-size: 18px\;"><span style="font-family: arial\;">&#10024\; <b>Gwen Ruff</b></span></span><span style="font-size: 18px\;"><span style="font-family: arial\;">\, back as our incredible moderator</span></span></p>\n\n<div>&nbsp\;</div>\n\n<p data-end="1071" data-start="837" style="caret-color: rgb(0\, 0\, 0)\; color: rgb(0\, 0\, 0)\;"><span style="font-size: 18px\;"><span style="font-family: arial\;">Each of these women brings a unique journey&mdash\;through leadership\, service\, entrepreneurship\, family\, and faith. They&rsquo\;ll share the moments that shaped them\, the challenges that stretched them\, and the lessons that continue to guide them.</span></span></p>\n\n<p data-end="1250" data-start="1073" style="caret-color: rgb(0\, 0\, 0)\; color: rgb(0\, 0\, 0)\;"><span style="font-size: 18px\;"><span style="font-family: arial\;">You can expect to be inspired. You&rsquo\;ll likely laugh. You might even tear up. Most of all\, you&rsquo\;ll leave feeling encouraged and reminded that you&rsquo\;re not walking your journey alone.</span></span></p>\n\n<p data-end="1447" data-start="1252" style="caret-color: rgb(0\, 0\, 0)\; color: rgb(0\, 0\, 0)\;"><span style="font-size: 18px\;"><span style="font-family: arial\;">Whether you&rsquo\;re building a business\, leading a team\, raising a family\, or figuring out what&rsquo\;s next\, this luncheon is a space to connect\, grow\, and celebrate the strength of women supporting women.</span></span></p>\n\n<p data-end="1493" data-is-last-node="" data-is-only-node="" data-start="1449" style="caret-color: rgb(0\, 0\, 0)\; color: rgb(0\, 0\, 0)\;"><span style="font-size: 18px\;"><span style="font-family: arial\;">Bring a friend. Come hungry. Leave inspired. Seating is limited.</span></span></p>\n\n<div>&nbsp\;</div>\n</div>\n</div>\n</div>\n</div>\n\n<div class="mt-3 w-full empty:hidden" style="caret-color: rgb(0\, 0\, 0)\; color: rgb(0\, 0\, 0)\;">&nbsp\;</div>\n
LOCATION:WC Bradley Museum\, 1017 Front Ave\, Columbus\, GA 31901
UID:e.3408.1578
SEQUENCE:3
DTSTAMP:20260424T011715Z
URL:https://business.ealcc.com/events/details/third-annual-leading-ladies-luncheon-1578
END:VEVENT

END:VCALENDAR
