BEGIN:VCALENDAR
VERSION:2.0
PRODID:-//ChamberMaster//Event Calendar 2.0//EN
METHOD:PUBLISH
X-PUBLISHED-TTL:P3D
REFRESH-INTERVAL:P3D
CALSCALE:GREGORIAN
BEGIN:VEVENT
DTSTART:20260430T153000Z
DTEND:20260430T170000Z
X-MICROSOFT-CDO-ALLDAYEVENT:FALSE
SUMMARY:Lunch & Learn: Dealing with Difficult People: Stay Calm\, Stay Professional\, Stay in Control
DESCRIPTION:Join us for our Monthly Lunch & Learn\, a recurring professional development series designed to help local business leaders\, professionals\, and entrepreneurs stay informed\, connected\, and inspired.\n\nEach session will feature timely business topics\, practical insights\, and expert speakers. While specific monthly topics will be announced closer to each event date\, attendees can expect engaging discussions focused on education\, growth\, and best practices relevant to our business community.\n\n\n\nThis month: \n\nDealing with Difficult People: Stay Calm\, Stay Professional\, Stay in Control with Mac & Kim Cantrell of 2 Impact\n\nStruggling with difficult customers or coworkers? You're not alone - and you don't have to just "deal with it." In this fast-paced\, practical Lunch & Learn\, you'll discover the 5 most common types of difficult people and simple\, effective strategies to handle each one with confidence and professionalism. Through real-life scenarios and interactive roleplay\, you'll walk away with tools you can use immediately to stay calm\, communicate clearly\, and turn challenging interactions into positive outcomes.\n\nTime:\n\nDoors open & Grab Lunch at 11:30 AM ET\n\nPresentation starts at 11:45 AM ET\n\nFinished by 1 PM ET\nFees:\n\nFree for Chamber Members who don't want lunch\n\n$15 for Chamber Members who order lunch\n\n$20 for Future or Non Chamber Members
X-ALT-DESC;FMTTYPE=text/html:<p data-end="501" data-start="301" style="caret-color: rgb(0\, 0\, 0)\; color: rgb(0\, 0\, 0)\;"><span style="font-size:16px\;"><span style="font-family:arial\;">Join us for our&nbsp\;<strong data-end="342" data-start="317">Monthly Lunch &amp\; Learn</strong>\, a recurring professional development series designed to help local business leaders\, professionals\, and entrepreneurs stay informed\, connected\, and inspired.</span></span></p>\n\n<p data-end="795" data-start="503" style="caret-color: rgb(0\, 0\, 0)\; color: rgb(0\, 0\, 0)\;"><span style="font-size:16px\;"><span style="font-family:arial\;">Each session will feature timely business topics\, practical insights\, and expert speakers. While specific monthly topics will be announced closer to each event date\, attendees can expect engaging discussions focused on education\, growth\, and best practices relevant to our business community.<br />\n<br />\nThis month:&nbsp\;</span></span></p>\n\n<div style="border: 0px\; font-variant-ligatures: normal\; font-variant-numeric: inherit\; font-variant-east-asian: inherit\; font-variant-alternates: inherit\; font-variant-position: inherit\; font-width: inherit\; font-size: 15px\; line-height: inherit\; font-family: &quot\;Segoe UI&quot\;\, &quot\;Segoe UI Web (West European)&quot\;\, -apple-system\, system-ui\, Roboto\, &quot\;Helvetica Neue&quot\;\, sans-serif\; font-optical-sizing: inherit\; font-size-adjust: inherit\; font-kerning: inherit\; font-feature-settings: inherit\; font-variation-settings: inherit\; margin: 0px\; padding: 0px\; vertical-align: baseline\; color: rgb(36\, 36\, 36)\;"><span style="font-size:16px\;"><span style="font-family:arial\;"><b data-olk-copy-source="MessageBody">Dealing with Difficult People: Stay Calm\, Stay Professional\, Stay in Control with Mac &amp\; Kim Cantrell of 2 Impact</b></span></span></div>\n\n<div style="border: 0px\; font-variant-ligatures: normal\; font-variant-numeric: inherit\; font-variant-east-asian: inherit\; font-variant-alternates: inherit\; font-variant-position: inherit\; font-width: inherit\; font-size: 15px\; line-height: inherit\; font-family: &quot\;Segoe UI&quot\;\, &quot\;Segoe UI Web (West European)&quot\;\, -apple-system\, system-ui\, Roboto\, &quot\;Helvetica Neue&quot\;\, sans-serif\; font-optical-sizing: inherit\; font-size-adjust: inherit\; font-kerning: inherit\; font-feature-settings: inherit\; font-variation-settings: inherit\; margin: 0px\; padding: 0px\; vertical-align: baseline\; color: rgb(36\, 36\, 36)\;"><span style="font-size:16px\;"><span style="font-family:arial\;">Struggling with difficult customers or coworkers? You&rsquo\;re not alone - and you don&rsquo\;t have to just &ldquo\;deal with it.&rdquo\; In this fast-paced\, practical Lunch &amp\; Learn\, you&rsquo\;ll discover the 5 most common types of difficult people and simple\, effective strategies to handle each one with confidence and professionalism. Through real-life scenarios and interactive roleplay\, you&rsquo\;ll walk away with tools you can use immediately to stay calm\, communicate clearly\, and turn challenging interactions into positive outcomes.</span></span></div>\n\n<h3 data-end="815" data-start="797" style="caret-color: rgb(0\, 0\, 0)\; color: rgb(0\, 0\, 0)\;"><span style="font-size:16px\;"><span style="font-family:arial\;"><span style="caret-color: rgb(0\, 0\, 0)\; color: rgb(0\, 0\, 0)\;"><strong>Time:</strong><br />\nDoors open &amp\; Grab Lunch&nbsp\;at 11:30 AM ET<br />\nPresentation starts at 11:45&nbsp\;AM ET<br />\nFinished by 1 PM ET</span></span></span></h3>\n<span style="font-size:16px\;"><span style="font-family:arial\;"><strong>Fees:</strong><br />\nFree for Chamber Members who don&#39\;t want lunch<br />\n$15 for Chamber Members who order lunch<br />\n$20 for Future or Non Chamber Members</span></span>
LOCATION:Synovus Tower in downtown Columbus. (see map below) Visitor parking garage entrance is on 14th Street. Access to P1 and P2/Public Parking for Synovus customers. If using GPS\, use 33 W 14th St. Columbus\, GA 31901 Synovus reception is located on the floor one. Take the elevator up to the first floor. You'll be greeted by staff there.
UID:e.3408.1558
SEQUENCE:3
DTSTAMP:20260421T165855Z
URL:https://business.ealcc.com/events/details/lunch-learn-dealing-with-difficult-people-stay-calm-stay-professional-stay-in-control-1558
END:VEVENT

END:VCALENDAR
