BEGIN:VCALENDAR
VERSION:2.0
PRODID:-//ChamberMaster//Event Calendar 2.0//EN
METHOD:PUBLISH
X-PUBLISHED-TTL:P3D
REFRESH-INTERVAL:P3D
CALSCALE:GREGORIAN
BEGIN:VEVENT
DTSTART:20240404T153000Z
DTEND:20240404T170000Z
X-MICROSOFT-CDO-ALLDAYEVENT:FALSE
SUMMARY:Lunch & Learn
DESCRIPTION:Join us for a fantastic opportunity to learn from one of the best in the business! The Chamber is excited to host a Lunch & Learn with 2Impact \n\nSeats are limited\, so make sure to register now to secure your spot. Don't wait too long or you may miss out on this incredible opportunity to learn from one of the best. We look forward to seeing you there!
X-ALT-DESC;FMTTYPE=text/html:Join us for a fantastic opportunity to learn from one of the best in the business! The Chamber is excited to host a Lunch &amp\; Learn with 2Impact&nbsp\;<br />\nSeats are limited\, so make sure to register now to secure your spot. Don&#39\;t wait too long or you may miss out on this incredible opportunity to learn from one of the best. We look forward to seeing you there!
LOCATION:Troy University 1510 Whitewater Ave\, Phenix City\, AL Room 101
UID:e.3408.1403
SEQUENCE:3
DTSTAMP:20260423T215237Z
URL:https://business.ealcc.com/events/details/lunch-learn-1403
END:VEVENT

END:VCALENDAR
