BEGIN:VCALENDAR
VERSION:2.0
PRODID:-//ChamberMaster//Event Calendar 2.0//EN
METHOD:PUBLISH
X-PUBLISHED-TTL:P3D
REFRESH-INTERVAL:P3D
CALSCALE:GREGORIAN
BEGIN:VEVENT
DTSTART:20230626T154500Z
DTEND:20230626T170000Z
X-MICROSOFT-CDO-ALLDAYEVENT:FALSE
SUMMARY:Learn\, Lunch\, & Network - Sales Tactics and Sales Management
DESCRIPTION:Come and have lunch with us while\n\nThomas Credle from SBDC talk about Sales Tactics and Sales Management \n\nNetwork with other business people in the region
X-ALT-DESC;FMTTYPE=text/html:<span style="font-family: Roboto\, sans-serif\;">Come and have lunch with us while<br />\nThomas Credle from SBDC talk about Sales Tactics and Sales Management&nbsp\;</span><br />\n<span style="font-family: Roboto\, sans-serif\; letter-spacing: -0.015em\; text-transform: uppercase\;">Network with other business people in the region</span>
LOCATION:American Legion P-135 511 13th Street Phenix City\, AL 36868
UID:e.3408.1376
SEQUENCE:3
DTSTAMP:20260426T042402Z
URL:https://business.ealcc.com/events/details/learn-lunch-network-sales-tactics-and-sales-management-1376
END:VEVENT

END:VCALENDAR
