BEGIN:VCALENDAR
VERSION:2.0
PRODID:-//ChamberMaster//Event Calendar 2.0//EN
METHOD:PUBLISH
X-PUBLISHED-TTL:P3D
REFRESH-INTERVAL:P3D
CALSCALE:GREGORIAN
BEGIN:VEVENT
DTSTART:20240403T130000Z
DTEND:20240403T160000Z
X-MICROSOFT-CDO-ALLDAYEVENT:FALSE
SUMMARY:From Risky to Resilient: Strategic Growth for Entrepreneurs
DESCRIPTION:Ready to take your business to the next level? You're not alone. But scaling a business requires more than a dream. It demands strategic planning\, resilience\, and the foresight to navigate the challenges and disruptions ahead. Join us and explore what growth means for your business\, identify the internal and external obstacles that can derail that growth\, and develop a proactive (not reactive!) strategy to mitigate the risk that will come your way. Connect with a panel of industry experts who specialize in helping businesses prepare for threats and uncertainty. You'll leave feeling prepared to lead when things don't go as planned and thrive in a constantly evolving business landscape.
X-ALT-DESC;FMTTYPE=text/html:<span style="color:rgb(119\, 119\, 119)\; font-family:merriweather sans\,tahoma\,sans-serif\; font-size:16px">Ready to take your business to the next level? You&#39\;re not alone. But scaling a business requires more than a dream. It demands strategic planning\, resilience\, and the foresight to navigate the challenges and disruptions ahead. Join us and explore what growth means for your business\, identify the internal and external obstacles that can derail that growth\, and develop a proactive (not reactive!) strategy to mitigate the risk that will come your way. Connect with a panel of industry experts who specialize in helping businesses prepare for threats and uncertainty. You&#39\;ll leave feeling prepared to lead when things don&#39\;t go as planned and thrive in a constantly evolving business landscape.</span>
LOCATION:UGA SBDC Cunningham Conference Center 3100 Gentian Blvd. Columbus\, GA 31907 Phone: (706) 569-2651
UID:e.3408.1402
SEQUENCE:3
DTSTAMP:20260423T220332Z
URL:https://business.ealcc.com/events/details/from-risky-to-resilient-strategic-growth-for-entrepreneurs-1402
END:VEVENT

END:VCALENDAR
