BEGIN:VCALENDAR
VERSION:2.0
PRODID:-//ChamberMaster//Event Calendar 2.0//EN
METHOD:PUBLISH
X-PUBLISHED-TTL:P3D
REFRESH-INTERVAL:P3D
CALSCALE:GREGORIAN
BEGIN:VEVENT
DTSTART:20230627T210000Z
DTEND:20230627T230000Z
X-MICROSOFT-CDO-ALLDAYEVENT:FALSE
SUMMARY:Business After Hours
DESCRIPTION:Bring plenty of business cards to share.  Let us know you are coming!
X-ALT-DESC;FMTTYPE=text/html:<span style="font-size:14px\;"><span style="font-family:arial\;"><span style="color: rgb(0\, 0\, 0)\;">Bring plenty of business cards to share.&nbsp\; Let us know you are coming!&nbsp\;&nbsp\;</span></span></span>
LOCATION:Giovanna's Pizzeria 1600-A Broad St\, Phenix City\, AL 36867
UID:e.3408.1331
SEQUENCE:3
DTSTAMP:20260426T042258Z
URL:https://business.ealcc.com/events/details/business-after-hours-06-27-2023-1331
END:VEVENT

END:VCALENDAR
