BEGIN:VCALENDAR
VERSION:2.0
PRODID:-//ChamberMaster//Event Calendar 2.0//EN
METHOD:PUBLISH
X-PUBLISHED-TTL:P3D
REFRESH-INTERVAL:P3D
CALSCALE:GREGORIAN
BEGIN:VEVENT
DTSTART:20240508T110000Z
DTEND:20240508T124500Z
X-MICROSOFT-CDO-ALLDAYEVENT:FALSE
SUMMARY:Breakfast and Business
DESCRIPTION:We are thrilled to invite you Breakfast & Business\, where Sheriff Heath Taylor and Chief George Staudinger will be discussing public safety in Phenix City. This is a fantastic opportunity to engage with local law enforcement\, ask questions\, and enjoy a delicious breakfast while networking with fellow community members. Don't miss out on this informative and engaging event!\n\nYou won't want to miss our Power of 5 Networking!
X-ALT-DESC;FMTTYPE=text/html:We are thrilled to invite you Breakfast &amp\; Business\, where Sheriff Heath Taylor and Chief George Staudinger will be discussing public safety in Phenix City. This is a fantastic opportunity to engage with local law enforcement\, ask questions\, and enjoy a delicious breakfast while networking with fellow community members. Don&#39\;t miss out on this informative and engaging event!<br style="color: rgb(51\, 51\, 51)\; font-size: 13px\; background-color: rgb(255\, 255\, 255)\; font-family: Roboto\, sans-serif\;" />\n<span style="color: rgb(51\, 51\, 51)\; font-size: 13px\; background-color: rgb(255\, 255\, 255)\; font-family: Roboto\, sans-serif\;">You won&#39\;t want to miss our Power of 5 Networking!</span>
LOCATION:Troy University Phenix City\, AL 36867
UID:e.3408.1410
SEQUENCE:3
DTSTAMP:20260423T201254Z
URL:https://business.ealcc.com/events/details/breakfast-and-business-1410
END:VEVENT

END:VCALENDAR
